BEGIN:VCALENDAR
VERSION:2.0
PRODID:-//hacksw/handcal//NONSGML v1.0//EN
CALSCALE:GREGORIAN
BEGIN:VEVENT
DTEND:20251011T113000Z
UID:69e64b6bde96b
DTSTAMP:20260420T115107Z
LOCATION:Reading Area Community College
DESCRIPTION:
URL;VALUE=URI:racc.edu/events/fall-1st-bi-term-7-weeks-ends
SUMMARY:Fall 1st Bi-Term Ends (8 weeks) 
DTSTART:20251011T113000Z
END:VEVENT
END:VCALENDAR