BEGIN:VCALENDAR
VERSION:2.0
PRODID:-//hacksw/handcal//NONSGML v1.0//EN
CALSCALE:GREGORIAN
BEGIN:VEVENT
DTEND:20251015T113000Z
UID:69e89054adeb1
DTSTAMP:20260422T050940Z
LOCATION:Reading Area Community College
DESCRIPTION:
URL;VALUE=URI:racc.edu/events/fall-2nd-bi-term-7-weeks-begins
SUMMARY:Fall 2nd Bi-Term Begins (8 Weeks)
DTSTART:20251015T113000Z
END:VEVENT
END:VCALENDAR