BEGIN:VCALENDAR
VERSION:2.0
PRODID:-//hacksw/handcal//NONSGML v1.0//EN
CALSCALE:GREGORIAN
BEGIN:VEVENT
DTEND:20251016T140000Z
UID:69e64b427cd64
DTSTAMP:20260420T115026Z
LOCATION:Miller Center
DESCRIPTION:<p>High school seniors will see an overview of the admission and financial aid process\, and hear from student life\, campus support services and current RACC students.</p>
URL;VALUE=URI:racc.edu/events/high-school-senior-day-0
SUMMARY:High School Senior Day
DTSTART:20251016T140000Z
END:VEVENT
END:VCALENDAR